BEGIN:VCALENDAR
VERSION:2.0
PRODID:icalendar-ruby
CALSCALE:GREGORIAN
METHOD:PUBLISH
BEGIN:VEVENT
DTSTAMP:20260422T062937Z
UID:8-871895@storehousemin.com
DTSTART:20260906T150000Z
DTEND:20260906T173000Z
CLASS:PUBLIC
CREATED:20260421T194435
DESCRIPTION:Sunday Services
LAST-MODIFIED:20260421T194435
LOCATION:
SUMMARY:Sunday Services
URL;VALUE=URI:https://storehousemin.com/events/sunday-services/2026-09-06
END:VEVENT
END:VCALENDAR
