BEGIN:VCALENDAR
VERSION:2.0
PRODID:icalendar-ruby
CALSCALE:GREGORIAN
METHOD:PUBLISH
BEGIN:VEVENT
DTSTAMP:20260422T123733Z
UID:8-872253@storehousemin.com
DTSTART:20261004T150000Z
DTEND:20261004T173000Z
CLASS:PUBLIC
CREATED:20260422T064758
DESCRIPTION:Sunday Services
LAST-MODIFIED:20260422T064758
LOCATION:
SUMMARY:Sunday Services
URL;VALUE=URI:https://storehousemin.com/events/sunday-services/2026-10-04
END:VEVENT
END:VCALENDAR
