BEGIN:VCALENDAR
VERSION:2.0
PRODID:icalendar-ruby
CALSCALE:GREGORIAN
METHOD:PUBLISH
BEGIN:VEVENT
DTSTAMP:20260423T230553Z
UID:9-875609@storehousemin.com
DTSTART:20260814T000000Z
DTEND:20260814T004500Z
CLASS:PUBLIC
CREATED:20260423T153322
DESCRIPTION:Thursday Bible Study
LAST-MODIFIED:20260423T153322
LOCATION:
SUMMARY:Thursday Bible Study
URL;VALUE=URI:https://storehousemin.com/events/thursday-bible-study/2026-08
 -13
END:VEVENT
END:VCALENDAR
