BEGIN:VCALENDAR
VERSION:2.0
PRODID:icalendar-ruby
CALSCALE:GREGORIAN
METHOD:PUBLISH
BEGIN:VEVENT
DTSTAMP:20260424T112014Z
UID:9-876325@storehousemin.com
DTSTART:20261009T000000Z
DTEND:20261009T004500Z
CLASS:PUBLIC
CREATED:20260423T212101
DESCRIPTION:Thursday Bible Study
LAST-MODIFIED:20260423T212101
LOCATION:
SUMMARY:Thursday Bible Study
URL;VALUE=URI:https://storehousemin.com/events/thursday-bible-study/2026-10
 -08
END:VEVENT
END:VCALENDAR
