BEGIN:VCALENDAR
VERSION:2.0
PRODID:icalendar-ruby
CALSCALE:GREGORIAN
METHOD:PUBLISH
BEGIN:VEVENT
DTSTAMP:20260424T125345Z
UID:9-876681@storehousemin.com
DTSTART:20261016T000000Z
DTEND:20261016T004500Z
CLASS:PUBLIC
CREATED:20260424T064918
DESCRIPTION:Thursday Bible Study
LAST-MODIFIED:20260424T064918
LOCATION:
SUMMARY:Thursday Bible Study
URL;VALUE=URI:https://storehousemin.com/events/thursday-bible-study/2026-10
 -15
END:VEVENT
END:VCALENDAR
