BEGIN:VCALENDAR
VERSION:2.0
PRODID:icalendar-ruby
CALSCALE:GREGORIAN
METHOD:PUBLISH
BEGIN:VEVENT
DTSTAMP:20260424T162052Z
UID:9-877038@storehousemin.com
DTSTART:20261030T000000Z
DTEND:20261030T004500Z
CLASS:PUBLIC
CREATED:20260424T094248
DESCRIPTION:Thursday Bible Study
LAST-MODIFIED:20260424T094248
LOCATION:
SUMMARY:Thursday Bible Study
URL;VALUE=URI:https://storehousemin.com/events/thursday-bible-study/2026-10
 -29
END:VEVENT
END:VCALENDAR
